BEGIN:VCALENDAR
VERSION:2.0
PRODID:-//Institute of Coaching Studies - ECPv6.15.20//NONSGML v1.0//EN
CALSCALE:GREGORIAN
METHOD:PUBLISH
X-WR-CALNAME:Institute of Coaching Studies
X-ORIGINAL-URL:https://coachingstudies.org
X-WR-CALDESC:Events for Institute of Coaching Studies
REFRESH-INTERVAL;VALUE=DURATION:PT1H
X-Robots-Tag:noindex
X-PUBLISHED-TTL:PT1H
BEGIN:VTIMEZONE
TZID:Europe/Dublin
BEGIN:STANDARD
TZOFFSETFROM:+0000
TZOFFSETTO:+0100
TZNAME:IST
DTSTART:20250330T010000
END:STANDARD
BEGIN:DAYLIGHT
TZOFFSETFROM:+0100
TZOFFSETTO:+0000
TZNAME:GMT
DTSTART:20251026T010000
END:DAYLIGHT
BEGIN:STANDARD
TZOFFSETFROM:+0000
TZOFFSETTO:+0100
TZNAME:IST
DTSTART:20260329T010000
END:STANDARD
BEGIN:DAYLIGHT
TZOFFSETFROM:+0100
TZOFFSETTO:+0000
TZNAME:GMT
DTSTART:20261025T010000
END:DAYLIGHT
BEGIN:STANDARD
TZOFFSETFROM:+0000
TZOFFSETTO:+0100
TZNAME:IST
DTSTART:20270328T010000
END:STANDARD
BEGIN:DAYLIGHT
TZOFFSETFROM:+0100
TZOFFSETTO:+0000
TZNAME:GMT
DTSTART:20271031T010000
END:DAYLIGHT
END:VTIMEZONE
BEGIN:VEVENT
DTSTART;TZID=Europe/Dublin:20260430T140000
DTEND;TZID=Europe/Dublin:20260430T150000
DTSTAMP:20260426T030918
CREATED:20250822T225828Z
LAST-MODIFIED:20260423T105848Z
UID:10000076-1777557600-1777561200@coachingstudies.org
SUMMARY:What’s Next After Credentialing? Exploring Your Growth as a Coach
DESCRIPTION:You’ve earned your coaching credential. Now what? \nJoin us on for a live webinar where we’ll explore how to keep growing as a coach beyond certification. Your learning doesn’t stop with the credential. We will talk about how to deepen your core skills\, develop your coaching toolkit and get better as a coach. \nWe’ll walk through the key aspects of continuing professional development\, share examples of learning opportunities\, and help you reflect on what kind of learning process you want to set for yourself. This session will offer clarity and inspiration on how to continue your development as a professional coach.
URL:https://coachingstudies.org/events/whats-next-after-credentialing-exploring-your-growth-as-a-coach/
CATEGORIES:Webinar
ATTACH;FMTTYPE=image/png:https://coachingstudies.org/wp-content/uploads/2023/12/business-series.png
LOCATION:https://coachingstudies.org/events/whats-next-after-credentialing-exploring-your-growth-as-a-coach/
END:VEVENT
END:VCALENDAR